BEGIN:VCALENDAR
VERSION:2.0
PRODID:-//IFSA - ECPv6.13.2.1//NONSGML v1.0//EN
CALSCALE:GREGORIAN
METHOD:PUBLISH
X-ORIGINAL-URL:https://ifsa.net
X-WR-CALDESC:Events for IFSA
REFRESH-INTERVAL;VALUE=DURATION:PT1H
X-Robots-Tag:noindex
X-PUBLISHED-TTL:PT1H
BEGIN:VTIMEZONE
TZID:Asia/Tokyo
BEGIN:STANDARD
TZOFFSETFROM:+0900
TZOFFSETTO:+0900
TZNAME:JST
DTSTART:20220101T000000
END:STANDARD
END:VTIMEZONE
BEGIN:VEVENT
DTSTART;TZID=Asia/Tokyo:20220502T090000
DTEND;TZID=Asia/Tokyo:20220506T170000
DTSTAMP:20260422T123447
CREATED:20211223T050856Z
LAST-MODIFIED:20211223T050856Z
UID:10000336-1651482000-1651856400@ifsa.net
SUMMARY:XV World Forestry Congress
DESCRIPTION:The XV World Forestry Congress will be held from 2 to 6 May 2022 in Seoul\, Republic of Korea. The Congress was originally scheduled for May of 2021\, but postponed due to the Covid-19 pandemic.\nThe theme of the XV Congress is “Building a green\, healthy and resilient future with forests”. The Congress has been held every six years since 1926. \nThe XV World Forestry Congress will bring together stakeholders from all over the world to discuss key challenges facing the forest sector and ways to address them. For more information see -> https://www.wfc2021korea.org | #WFC2021Korea
URL:https://ifsa.net/event/xv-world-forestry-congress/
LOCATION:Seoul\, Republic of Korea
CATEGORIES:Partner Events
ATTACH;FMTTYPE=image/png:https://ifsa.net/wp-content/uploads/2021/12/World-Forestry-congress-new-dates-bis-Joshua-Elukut-Amaitum.png
END:VEVENT
END:VCALENDAR