BEGIN:VCALENDAR
VERSION:2.0
PRODID:-//IFSA - ECPv6.13.2.1//NONSGML v1.0//EN
CALSCALE:GREGORIAN
METHOD:PUBLISH
X-ORIGINAL-URL:https://ifsa.net
X-WR-CALDESC:Events for IFSA
REFRESH-INTERVAL;VALUE=DURATION:PT1H
X-Robots-Tag:noindex
X-PUBLISHED-TTL:PT1H
BEGIN:VTIMEZONE
TZID:Europe/Berlin
BEGIN:DAYLIGHT
TZOFFSETFROM:+0100
TZOFFSETTO:+0200
TZNAME:CEST
DTSTART:20230326T010000
END:DAYLIGHT
BEGIN:STANDARD
TZOFFSETFROM:+0200
TZOFFSETTO:+0100
TZNAME:CET
DTSTART:20231029T010000
END:STANDARD
BEGIN:DAYLIGHT
TZOFFSETFROM:+0100
TZOFFSETTO:+0200
TZNAME:CEST
DTSTART:20240331T010000
END:DAYLIGHT
BEGIN:STANDARD
TZOFFSETFROM:+0200
TZOFFSETTO:+0100
TZNAME:CET
DTSTART:20241027T010000
END:STANDARD
END:VTIMEZONE
BEGIN:VEVENT
DTSTART;VALUE=DATE:20240506
DTEND;VALUE=DATE:20240511
DTSTAMP:20260422T140720
CREATED:20240509T031957Z
LAST-MODIFIED:20240509T031957Z
UID:10000452-1714953600-1715385599@ifsa.net
SUMMARY:UN Forum on Forests – 19th session
DESCRIPTION:
URL:https://ifsa.net/event/un-forum-on-forests-19th-session/
LOCATION:UN Headquarters\, New York\, United States
END:VEVENT
BEGIN:VEVENT
DTSTART;TZID=Europe/Berlin:20230508T080000
DTEND;TZID=Europe/Berlin:20230512T170000
DTSTAMP:20260422T140720
CREATED:20230310T003320Z
LAST-MODIFIED:20230314T165427Z
UID:10000381-1683532800-1683910800@ifsa.net
SUMMARY:18th session of the UN Forum on Forests (UNFF18)
DESCRIPTION:The 18th session of the UN Forum on Forests will be held from 8 to 12 May 2023 at UN Headquarters in New York.
URL:https://ifsa.net/event/18th-session-of-the-un-forum-on-forests-unff18/
LOCATION:New York\, United States
CATEGORIES:Partner Events
ATTACH;FMTTYPE=image/jpeg:https://ifsa.net/wp-content/uploads/2023/03/unff-label-event-Joshua-Elukut-Amaitum.jpg
END:VEVENT
END:VCALENDAR